BEGIN:VCALENDAR
VERSION:2.0
PRODID:-//UPT - ECPv6.0.2//NONSGML v1.0//EN
CALSCALE:GREGORIAN
METHOD:PUBLISH
X-WR-CALNAME:UPT
X-ORIGINAL-URL:https://incluziv.upt.ro
X-WR-CALDESC:Events for UPT
REFRESH-INTERVAL;VALUE=DURATION:PT1H
X-Robots-Tag:noindex
X-PUBLISHED-TTL:PT1H
BEGIN:VTIMEZONE
TZID:Europe/Bucharest
BEGIN:DAYLIGHT
TZOFFSETFROM:+0200
TZOFFSETTO:+0300
TZNAME:EEST
DTSTART:20230326T010000
END:DAYLIGHT
BEGIN:STANDARD
TZOFFSETFROM:+0300
TZOFFSETTO:+0200
TZNAME:EET
DTSTART:20231029T010000
END:STANDARD
END:VTIMEZONE
BEGIN:VEVENT
DTSTART;TZID=Europe/Bucharest:20230403T100000
DTEND;TZID=Europe/Bucharest:20230406T160000
DTSTAMP:20260419T215023
CREATED:20220810T104109Z
LAST-MODIFIED:20221122T104935Z
UID:7587-1680516000-1680796800@incluziv.upt.ro
SUMMARY:Zilele Porților Deschise la Universitatea Politehnica Timișoara
DESCRIPTION:Universitatea Politehnica Timișoara organizează anual Zilele Porților Deschise\, unde elevii și cadrele didactice din sistemul preuniversitar sunt invitați să descopere laboratoarele facultăților\, experimentele care se pot realiza aici și să viziteze întregul campus al UPT. Elevii și cadrele didactice însoțitoare vor putea vizita bazele sportive ale Universității Politehnica Timișoara\, Biblioteca UPT (cea mai modernă din mediul universitar) sau laboratorul interactiv de fizică Experimentarium TM\, din Parcul Rozelor\, unde se pot susține peste 300 de experimente interesante.
URL:https://incluziv.upt.ro/eveniment/zilele-portilor-deschise-la-universitatea-politehnica-timisoara/
ATTACH;FMTTYPE=image/png:https://incluziv.upt.ro/wp-content/uploads/2022/08/ZPD.png
END:VEVENT
END:VCALENDAR