BEGIN:VCALENDAR
VERSION:2.0
PRODID:-//UPT - ECPv6.0.2//NONSGML v1.0//EN
CALSCALE:GREGORIAN
METHOD:PUBLISH
X-ORIGINAL-URL:https://incluziv.upt.ro
X-WR-CALDESC:Events for UPT
REFRESH-INTERVAL;VALUE=DURATION:PT1H
X-Robots-Tag:noindex
X-PUBLISHED-TTL:PT1H
BEGIN:VTIMEZONE
TZID:Europe/Bucharest
BEGIN:DAYLIGHT
TZOFFSETFROM:+0200
TZOFFSETTO:+0300
TZNAME:EEST
DTSTART:20230326T010000
END:DAYLIGHT
BEGIN:STANDARD
TZOFFSETFROM:+0300
TZOFFSETTO:+0200
TZNAME:EET
DTSTART:20231029T010000
END:STANDARD
END:VTIMEZONE
BEGIN:VEVENT
DTSTART;TZID=Europe/Bucharest:20230422T100000
DTEND;TZID=Europe/Bucharest:20230422T180000
DTSTAMP:20260419T215021
CREATED:20220810T093408Z
LAST-MODIFIED:20221122T104640Z
UID:7578-1682157600-1682186400@incluziv.upt.ro
SUMMARY:Poli Bike Challenge
DESCRIPTION:Universitatea Politehnica Timișoara organizează în 2023 competiția Poli Bike Challenge – eveniment înregistrat în calendarul Federației Române de Ciclism. Competiţia de tip criterium este destinată copiilor\, amatorilor și sportivilor profesioniști\, fiind desfășurată în patru curse dedicate fiecărei categorii aparte.
URL:https://incluziv.upt.ro/eveniment/poli-bike-challenge/
LOCATION:Piața Victoriei\, Piața Victoriei 2\, Timișoara\, Timiș\, România
ATTACH;FMTTYPE=image/png:https://incluziv.upt.ro/wp-content/uploads/2022/08/POLIBIKE.png
END:VEVENT
END:VCALENDAR