BEGIN:VCALENDAR
VERSION:2.0
PRODID:-//UPT - ECPv6.0.2//NONSGML v1.0//EN
CALSCALE:GREGORIAN
METHOD:PUBLISH
X-ORIGINAL-URL:https://incluziv.upt.ro
X-WR-CALDESC:Events for UPT
REFRESH-INTERVAL;VALUE=DURATION:PT1H
X-Robots-Tag:noindex
X-PUBLISHED-TTL:PT1H
BEGIN:VTIMEZONE
TZID:Europe/Bucharest
BEGIN:DAYLIGHT
TZOFFSETFROM:+0200
TZOFFSETTO:+0300
TZNAME:EEST
DTSTART:20230326T010000
END:DAYLIGHT
BEGIN:STANDARD
TZOFFSETFROM:+0300
TZOFFSETTO:+0200
TZNAME:EET
DTSTART:20231029T010000
END:STANDARD
END:VTIMEZONE
BEGIN:VEVENT
DTSTART;VALUE=DATE:20230404
DTEND;VALUE=DATE:20230406
DTSTAMP:20260420T105131
CREATED:20220810T095138Z
LAST-MODIFIED:20221122T101814Z
UID:7581-1680566400-1680739199@incluziv.upt.ro
SUMMARY:ViPEDU - Târg educațional virtual
DESCRIPTION:Călătorește Virtual în lumea Politehnicii: 10 facultăți\, 24 de domenii de licență și 57 de specializări așteaptă să fie descoperite la ViP EDU. Târgul se adresează tuturor persoanelor (elevi\, părinți\, cadre didactice\, etc.) dornice să afle informații cu privire la oferta educațională a UPT\, dar și numeroasele oportunități de care se bucură un viitor student UPT.\nVizitatorii vor putea explora standurile facultăților și vor putea discuta live cu reprezentanții fiecărei facultăți. Mai mult\, vor avea loc întâlniri live prin platforma Zoom și live pe Facebook cu reprezentații fiecărei facultăți. La finalul fiecărei prezentări\, participanții vor avea ocazia de a discuta și de a pune întrebări reprezentaților.
URL:https://incluziv.upt.ro/eveniment/targ-educational-virtual/
ATTACH;FMTTYPE=image/png:https://incluziv.upt.ro/wp-content/uploads/2022/08/vipedu.png
END:VEVENT
BEGIN:VEVENT
DTSTART;TZID=Europe/Bucharest:20230218T100000
DTEND;TZID=Europe/Bucharest:20230218T120000
DTSTAMP:20260420T105131
CREATED:20220810T092123Z
LAST-MODIFIED:20221122T101309Z
UID:7573-1676714400-1676721600@incluziv.upt.ro
SUMMARY:UPTeConectează - lecții de matematică online și fizic
DESCRIPTION:Lecții susținute în format online și fizic\, în vederea pregătirii la matematică pentru examenele de bacalaureat și de admitere\, organizate gratuit de către cadrele didactice ale Universității Politehnica Timișoara.
URL:https://incluziv.upt.ro/eveniment/upteconecteaza-lectii-de-matematica-online-si-fizic/
ATTACH;FMTTYPE=image/png:https://incluziv.upt.ro/wp-content/uploads/2022/08/lectii-mate-1.png
END:VEVENT
END:VCALENDAR