BEGIN:VCALENDAR
VERSION:2.0
PRODID:-//UPT - ECPv6.0.2//NONSGML v1.0//EN
CALSCALE:GREGORIAN
METHOD:PUBLISH
X-WR-CALNAME:UPT
X-ORIGINAL-URL:https://incluziv.upt.ro
X-WR-CALDESC:Events for UPT
REFRESH-INTERVAL;VALUE=DURATION:PT1H
X-Robots-Tag:noindex
X-PUBLISHED-TTL:PT1H
BEGIN:VTIMEZONE
TZID:Europe/Bucharest
BEGIN:DAYLIGHT
TZOFFSETFROM:+0200
TZOFFSETTO:+0300
TZNAME:EEST
DTSTART:20230326T010000
END:DAYLIGHT
BEGIN:STANDARD
TZOFFSETFROM:+0300
TZOFFSETTO:+0200
TZNAME:EET
DTSTART:20231029T010000
END:STANDARD
END:VTIMEZONE
BEGIN:VEVENT
DTSTART;TZID=Europe/Bucharest:20230304T100000
DTEND;TZID=Europe/Bucharest:20230304T120000
DTSTAMP:20260420T093659
CREATED:20220810T080638Z
LAST-MODIFIED:20221122T101408Z
UID:7548-1677924000-1677931200@incluziv.upt.ro
SUMMARY:Meditații gratuite chimie organică și anorganică
DESCRIPTION:Programul de meditații gratuite la disciplinele Chimie Anorganică și Chimie Organică intitulat „Cu UPT învăț CHIMIE” vine în întâmpinarea elevilor de liceu care se pregătesc pentru examenul de bacalaureat\, oferind cursuri gratuite de pregătire predate de cadre didactice universitare de la Facultatea de Chimie Industrială și Ingineria Mediului\, din cadrul Universității Politehnica Timișoara. Scopul este aprofundarea cunoștințelor în domeniile menționate\, formarea de competențe necesare absolvenților de liceu\, precum și familiarizarea elevilor cu cerințele subiectelor pentru susținerea examenului de bacalaureat.
URL:https://incluziv.upt.ro/eveniment/meditatii-gratuite-chimie-organica-si-anorganica/
ATTACH;FMTTYPE=image/png:https://incluziv.upt.ro/wp-content/uploads/2022/08/meditatii-chimie.png
END:VEVENT
BEGIN:VEVENT
DTSTART;TZID=Europe/Bucharest:20230329T100000
DTEND;TZID=Europe/Bucharest:20230330T170000
DTSTAMP:20260420T093659
CREATED:20220810T095952Z
LAST-MODIFIED:20221122T123807Z
UID:7585-1680084000-1680195600@incluziv.upt.ro
SUMMARY:Zilele Carierei
DESCRIPTION:Zilele Carierei este un eveniment care reunește companii de renume din vestul țării cu studenții și absolvenții UPT\, pentru a le prezenta oferte de carieră sau programe de internship disponibile. \nEvenimentul este organizat de Universitatea Politehnica Timișoara\, prin intermediul Centrului de Consiliere și Orientare în Carieră. \n 
URL:https://incluziv.upt.ro/eveniment/zilele-carierei-universitatea-politehnica-timisoara/
LOCATION:Restaurantul Studențesc UPT\, Aleea Studenților 2\, Timișoara\, Timis\, România
ATTACH;FMTTYPE=image/png:https://incluziv.upt.ro/wp-content/uploads/2022/08/ZC.png
ORGANIZER;CN="Centrul%20de%20Consiliere%20%C8%99i%20Orientare%20%C3%AEn%20Carier%C4%83":MAILTO:email@email.ro
END:VEVENT
END:VCALENDAR