BEGIN:VCALENDAR
VERSION:2.0
PRODID:-//UPT - ECPv6.0.2//NONSGML v1.0//EN
CALSCALE:GREGORIAN
METHOD:PUBLISH
X-WR-CALNAME:UPT
X-ORIGINAL-URL:https://incluziv.upt.ro
X-WR-CALDESC:Events for UPT
REFRESH-INTERVAL;VALUE=DURATION:PT1H
X-Robots-Tag:noindex
X-PUBLISHED-TTL:PT1H
BEGIN:VTIMEZONE
TZID:Europe/Bucharest
BEGIN:DAYLIGHT
TZOFFSETFROM:+0200
TZOFFSETTO:+0300
TZNAME:EEST
DTSTART:20230326T010000
END:DAYLIGHT
BEGIN:STANDARD
TZOFFSETFROM:+0300
TZOFFSETTO:+0200
TZNAME:EET
DTSTART:20231029T010000
END:STANDARD
END:VTIMEZONE
BEGIN:VEVENT
DTSTART;TZID=Europe/Bucharest:20230509T120000
DTEND;TZID=Europe/Bucharest:20230511T230000
DTSTAMP:20260419T154445
CREATED:20220810T104156Z
LAST-MODIFIED:20221122T104727Z
UID:7589-1683633600-1683846000@incluziv.upt.ro
SUMMARY:Zilele Studenților Timișoarei
DESCRIPTION:Evenimentul este organizat de Universitatea Politehnica Timișoara în parteneriat cu Asociația Festivaluri pentru Tineri și Consiliul Județean Timiș\, având și sprijinul Alianței Timișoara Universitară\, precum și a numeroși sponsori. Complexul Studențesc din Timișoara va fi animat de activități culturale\, ateliere de dans\, concerte în aer liber\, sesiune de lectură în hamace\, expoziție de pictură și fotografie\, precum și multe activități sportive.
URL:https://incluziv.upt.ro/eveniment/zilele-studentilor-timisoarei/
ATTACH;FMTTYPE=image/png:https://incluziv.upt.ro/wp-content/uploads/2022/08/ZST.png
END:VEVENT
BEGIN:VEVENT
DTSTART;VALUE=DATE:20230512
DTEND;VALUE=DATE:20230513
DTSTAMP:20260419T154445
CREATED:20220810T092720Z
LAST-MODIFIED:20221122T104014Z
UID:7575-1683849600-1683935999@incluziv.upt.ro
SUMMARY:Politehnica Timișoara – Un pas spre viitorul tău!
DESCRIPTION:Concursurile „Politehnica Timişoara – un pas spre viitorul tău!” vizează informarea şi familiarizarea elevilor cu mediul universitar\, în scopul asigurării unei mai bune tranziţii spre învăţământul superior şi orientării lor către o carieră de succes. Elevii care doresc să devină studenţi UPT sunt aşteptaţi să-şi verifice cunoştinţele în domeniile de interes prin participarea la unul dintre concursurile planificate.
URL:https://incluziv.upt.ro/eveniment/politehnica-timisoara-un-pas-spre-viitorul-tau/
ATTACH;FMTTYPE=image/png:https://incluziv.upt.ro/wp-content/uploads/2022/08/poliunpas.png
END:VEVENT
END:VCALENDAR